BEGIN:VCALENDAR
VERSION:2.0
PRODID:-//Redemptorists Sri Lanka - ECPv6.1.3//NONSGML v1.0//EN
CALSCALE:GREGORIAN
METHOD:PUBLISH
X-ORIGINAL-URL:https://www.redemptorists.lk
X-WR-CALDESC:Events for Redemptorists Sri Lanka
REFRESH-INTERVAL;VALUE=DURATION:PT1H
X-Robots-Tag:noindex
X-PUBLISHED-TTL:PT1H
BEGIN:VTIMEZONE
TZID:UTC
BEGIN:STANDARD
TZOFFSETFROM:+0000
TZOFFSETTO:+0000
TZNAME:UTC
DTSTART:20220101T000000
END:STANDARD
END:VTIMEZONE
BEGIN:VEVENT
DTSTART;VALUE=DATE:20220802
DTEND;VALUE=DATE:20220803
DTSTAMP:20260423T032730
CREATED:20220730T200138Z
LAST-MODIFIED:20220730T200138Z
UID:9987-1659398400-1659484799@www.redemptorists.lk
SUMMARY:Profession of Br Patrick
DESCRIPTION:
URL:https://www.redemptorists.lk/event/profession-of-br-patrick/
CATEGORIES:Anniversary
END:VEVENT
END:VCALENDAR