BEGIN:VCALENDAR
VERSION:2.0
PRODID:-//Redemptorists Sri Lanka - ECPv6.1.3//NONSGML v1.0//EN
CALSCALE:GREGORIAN
METHOD:PUBLISH
X-WR-CALNAME:Redemptorists Sri Lanka
X-ORIGINAL-URL:https://www.redemptorists.lk
X-WR-CALDESC:Events for Redemptorists Sri Lanka
REFRESH-INTERVAL;VALUE=DURATION:PT1H
X-Robots-Tag:noindex
X-PUBLISHED-TTL:PT1H
BEGIN:VTIMEZONE
TZID:UTC
BEGIN:STANDARD
TZOFFSETFROM:+0000
TZOFFSETTO:+0000
TZNAME:UTC
DTSTART:20220101T000000
END:STANDARD
END:VTIMEZONE
BEGIN:VEVENT
DTSTART;VALUE=DATE:20220809
DTEND;VALUE=DATE:20220810
DTSTAMP:20260423T033300
CREATED:20220730T200309Z
LAST-MODIFIED:20220730T200335Z
UID:9991-1660003200-1660089599@www.redemptorists.lk
SUMMARY:Ordination of Fr Sanath
DESCRIPTION:
URL:https://www.redemptorists.lk/event/ordination-of-fr-sanath/
CATEGORIES:Anniversary
END:VEVENT
END:VCALENDAR